BEGIN:VCALENDAR
VERSION:2.0
PRODID:-//Kultur- und Heimatverein „Rund um den Eichberg“ e.V. - ECPv6.15.20//NONSGML v1.0//EN
CALSCALE:GREGORIAN
METHOD:PUBLISH
X-ORIGINAL-URL:https://eichberg-ev.de
X-WR-CALDESC:Veranstaltungen für Kultur- und Heimatverein „Rund um den Eichberg“ e.V.
REFRESH-INTERVAL;VALUE=DURATION:PT1H
X-Robots-Tag:noindex
X-PUBLISHED-TTL:PT1H
BEGIN:VTIMEZONE
TZID:Europe/Berlin
BEGIN:DAYLIGHT
TZOFFSETFROM:+0100
TZOFFSETTO:+0200
TZNAME:CEST
DTSTART:20250330T010000
END:DAYLIGHT
BEGIN:STANDARD
TZOFFSETFROM:+0200
TZOFFSETTO:+0100
TZNAME:CET
DTSTART:20251026T010000
END:STANDARD
BEGIN:DAYLIGHT
TZOFFSETFROM:+0100
TZOFFSETTO:+0200
TZNAME:CEST
DTSTART:20260329T010000
END:DAYLIGHT
BEGIN:STANDARD
TZOFFSETFROM:+0200
TZOFFSETTO:+0100
TZNAME:CET
DTSTART:20261025T010000
END:STANDARD
BEGIN:DAYLIGHT
TZOFFSETFROM:+0100
TZOFFSETTO:+0200
TZNAME:CEST
DTSTART:20270328T010000
END:DAYLIGHT
BEGIN:STANDARD
TZOFFSETFROM:+0200
TZOFFSETTO:+0100
TZNAME:CET
DTSTART:20271031T010000
END:STANDARD
END:VTIMEZONE
BEGIN:VTIMEZONE
TZID:UTC
BEGIN:STANDARD
TZOFFSETFROM:+0000
TZOFFSETTO:+0000
TZNAME:UTC
DTSTART:20240101T000000
END:STANDARD
END:VTIMEZONE
BEGIN:VEVENT
DTSTART;TZID=Europe/Berlin:20260321T090000
DTEND;TZID=Europe/Berlin:20260321T120000
DTSTAMP:20260421T152052
CREATED:20260311T175801Z
LAST-MODIFIED:20260311T175801Z
UID:1554-1774083600-1774094400@eichberg-ev.de
SUMMARY:Müllsammeln am 5. überregionalen Waldputztag
DESCRIPTION:Ab 9 Uhr an den Treffpunkten Hasenweg 1 in Altenbach\, Am Vereinshaus in Zeititz und Alter Gutshof 3 in Leulitz.
URL:https://eichberg-ev.de/termin/muellsammeln-am-5-ueberregionalen-waldputztag/
LOCATION:Am Heller
END:VEVENT
BEGIN:VEVENT
DTSTART;TZID=UTC:20260124T170000
DTEND;TZID=UTC:20260124T220000
DTSTAMP:20260421T152053
CREATED:20240107T081241Z
LAST-MODIFIED:20260119T164657Z
UID:663-1769274000-1769292000@eichberg-ev.de
SUMMARY:Neujahrstreffen mit Weihnachtsbaumfeuer
DESCRIPTION:Ab 10 Uhr können die ausgedienten Bäume an ausgezeichneter Stelle abgelegt werden.
URL:https://eichberg-ev.de/termin/neujahrstreffen/
LOCATION:Am Heller
END:VEVENT
BEGIN:VEVENT
DTSTART;TZID=UTC:20251205T180000
DTEND;TZID=UTC:20251205T210000
DTSTAMP:20260421T152053
CREATED:20231007T113905Z
LAST-MODIFIED:20251025T161758Z
UID:616-1764957600-1764968400@eichberg-ev.de
SUMMARY:Zauberhafter Advent
DESCRIPTION:
URL:https://eichberg-ev.de/termin/adventsbasteln/
LOCATION:Vereinshaus Zeititz
END:VEVENT
BEGIN:VEVENT
DTSTART;TZID=UTC:20251116T140000
DTEND;TZID=UTC:20251116T150000
DTSTAMP:20260421T152053
CREATED:20231007T114854Z
LAST-MODIFIED:20251025T161443Z
UID:621-1763301600-1763305200@eichberg-ev.de
SUMMARY:Volkstrauertag
DESCRIPTION:mit Kranzniederlegung am Kriegerdenkmal
URL:https://eichberg-ev.de/termin/volkstrauertag/
LOCATION:Kriegerdenkmal Neu-Altenbach
END:VEVENT
BEGIN:VEVENT
DTSTART;TZID=UTC:20250822T160000
DTEND;TZID=UTC:20250823T010000
DTSTAMP:20260421T152053
CREATED:20250108T204150Z
LAST-MODIFIED:20250108T204150Z
UID:1117-1755878400-1755910800@eichberg-ev.de
SUMMARY:4. Altenbacher KolditzFilmnacht
DESCRIPTION:
URL:https://eichberg-ev.de/termin/4-altenbacher-kolditzfilmnacht/
LOCATION:Am Heller
END:VEVENT
BEGIN:VEVENT
DTSTART;TZID=UTC:20250615T100000
DTEND;TZID=UTC:20250615T150000
DTSTAMP:20260421T152053
CREATED:20250108T203916Z
LAST-MODIFIED:20250108T204249Z
UID:1115-1749981600-1749999600@eichberg-ev.de
SUMMARY:18. Eichberglauf
DESCRIPTION:
URL:https://eichberg-ev.de/termin/18-eichberglauf/
LOCATION:Am Heller
END:VEVENT
END:VCALENDAR